BEGIN:VCALENDAR
VERSION:2.0
PRODID:-//Groundwork Jacksonville - ECPv6.15.20//NONSGML v1.0//EN
CALSCALE:GREGORIAN
METHOD:PUBLISH
X-ORIGINAL-URL:https://www.groundworkjacksonville.org
X-WR-CALDESC:Events for Groundwork Jacksonville
REFRESH-INTERVAL;VALUE=DURATION:PT1H
X-Robots-Tag:noindex
X-PUBLISHED-TTL:PT1H
BEGIN:VTIMEZONE
TZID:America/New_York
BEGIN:DAYLIGHT
TZOFFSETFROM:-0500
TZOFFSETTO:-0400
TZNAME:EDT
DTSTART:20260308T070000
END:DAYLIGHT
BEGIN:STANDARD
TZOFFSETFROM:-0400
TZOFFSETTO:-0500
TZNAME:EST
DTSTART:20261101T060000
END:STANDARD
BEGIN:DAYLIGHT
TZOFFSETFROM:-0500
TZOFFSETTO:-0400
TZNAME:EDT
DTSTART:20270314T070000
END:DAYLIGHT
BEGIN:STANDARD
TZOFFSETFROM:-0400
TZOFFSETTO:-0500
TZNAME:EST
DTSTART:20271107T060000
END:STANDARD
BEGIN:DAYLIGHT
TZOFFSETFROM:-0500
TZOFFSETTO:-0400
TZNAME:EDT
DTSTART:20280312T070000
END:DAYLIGHT
BEGIN:STANDARD
TZOFFSETFROM:-0400
TZOFFSETTO:-0500
TZNAME:EST
DTSTART:20281105T060000
END:STANDARD
END:VTIMEZONE
BEGIN:VEVENT
DTSTART;TZID=America/New_York:20270116T090000
DTEND;TZID=America/New_York:20270116T110000
DTSTAMP:20260424T074054
CREATED:20260328T142737Z
LAST-MODIFIED:20260328T142812Z
UID:7260-1800090000-1800097200@www.groundworkjacksonville.org
SUMMARY:LaVilla Remembered Walking Tour
DESCRIPTION:Step back in time and explore the rich history of Jacksonville’s LaVilla neighborhood on this guided walking tour along the Emerald Trail. Discover the stories\, landmarks\, and cultural legacy that shaped this vibrant community\, from its roots as a center of arts and entertainment to its pivotal role in civil rights history. \nReserve your spot: https://www.eventbrite.com/e/lavilla-remembered-black-history-along-the-emerald-trail-tickets-1983648369672?aff=oddtdtcreator \nFunding for this program was provided through a grant from the  Florida Humanities with funds from The Mosaic Company. Any views\, findings\, conclusions or recommendations  expressed in this tour do not  necessarily represent those of Florida Humanities or The Mosaic Company.
URL:https://www.groundworkjacksonville.org/event/lavilla-remembered-walking-tour-8/
LOCATION:Florida C Dwight Park\, 1199 Church Street West\, Jacksonville\, FL\, 32204
ATTACH;FMTTYPE=image/jpeg:https://www.groundworkjacksonville.org/wp-content/uploads/2026/03/LaVilla-History-Tour-Email-Header.jpg
END:VEVENT
END:VCALENDAR